BEGIN:VCALENDAR
VERSION:2.0
PRODID:-//Intand Corporation//Tandem//EN
METHOD:PUBLISH
BEGIN:VEVENT
DTSTAMP:20260424T061724Z
DTSTART:20190328T123000Z
DTEND:20190328T173000Z
TRANSP:TRANSPARENT
PRIORITY:0
SUMMARY:DAC 3-Executive Conf Room-Coaches Visible Learning
LOCATION:DAC 3-Executive Conference Room
DESCRIPTION:Groups:\nDAC Innovation & Learning\n\nSchools:\nDistrict Admin
 istration Center\n\nLocation:\nDAC 3-Executive Conference Room\n\n
URL;VALUE=URI:http://liberty53.tandem.co/index.php?type=view&action=event&
 id=335374
CREATED:20190208T143621Z
LAST-MODIFIED:20190327T132438Z
UID:event_request-335374-liberty53@intand.com
END:VEVENT
END:VCALENDAR
