BEGIN:VCALENDAR
VERSION:2.0
PRODID:-//Intand Corporation//Tandem//EN
METHOD:PUBLISH
BEGIN:VEVENT
DTSTAMP:20260424T014833Z
DTSTART:20190221T211500Z
DTEND:20190221T221500Z
TRANSP:TRANSPARENT
PRIORITY:0
SUMMARY:LHS - Eligibility Determination Meeting - Henderson
LOCATION:LHS Guidance Conference Room
DESCRIPTION:Groups:\nLHS SPED\n\nSchools:\nLiberty High School\n\nLocation
 :\nLHS Guidance Conference Room\n\n
URL;VALUE=URI:http://liberty53.tandem.co/index.php?type=view&action=event&
 id=335080
CREATED:20190206T163500Z
LAST-MODIFIED:20190211T144042Z
UID:event_request-335080-liberty53@intand.com
END:VEVENT
END:VCALENDAR
