BEGIN:VCALENDAR
VERSION:2.0
PRODID:-//Intand Corporation//Tandem//EN
METHOD:PUBLISH
BEGIN:VEVENT
DTSTAMP:20260424T073721Z
DTSTART:20190206T213000Z
DTEND:20190206T230000Z
TRANSP:TRANSPARENT
PRIORITY:0
SUMMARY:LN Freshman Bball - Gear Check-in
LOCATION:LNHS Room 417 - The Eagle Room
DESCRIPTION:Groups:\nLNHS Basketball - Boys C-Team\n\nSchools:\nDO NOT USE
 ****South Valley Junior High School\nDO NOT USE***Liberty Junior High Scho
 ol\nLiberty North High School\n\nLocation:\nLNHS Room 417 - The Eagle Room
 \n\n
URL;VALUE=URI:http://liberty53.tandem.co/index.php?type=view&action=event&
 id=335078
CREATED:20190206T152954Z
LAST-MODIFIED:20190206T164129Z
UID:event_request-335078-liberty53@intand.com
END:VEVENT
END:VCALENDAR
