BEGIN:VCALENDAR
VERSION:2.0
PRODID:-//Intand Corporation//Tandem//EN
METHOD:PUBLISH
BEGIN:VEVENT
DTSTAMP:20260424T064655Z
DTSTART:20190302T010000Z
DTEND:20190302T033000Z
TRANSP:TRANSPARENT
PRIORITY:0
SUMMARY:LNHS Quilters
LOCATION:LNHS Performing Arts Theater (GH HVAC)
DESCRIPTION:Setup: 4:00 pm\nBreakdown: 10:00 pm\n\nGroups:\nLNHS Theater\n
 \nSchools:\nLiberty North High School\n\nLocation:\nLNHS Performing Arts T
 heater (GH HVAC)\n\n
URL;VALUE=URI:http://liberty53.tandem.co/index.php?type=view&action=event&
 id=334810
CREATED:20190204T145810Z
LAST-MODIFIED:20190208T215318Z
UID:event_request-334810-liberty53@intand.com
END:VEVENT
END:VCALENDAR
