BEGIN:VCALENDAR
VERSION:2.0
PRODID:-//Intand Corporation//Tandem//EN
METHOD:PUBLISH
BEGIN:VEVENT
DTSTAMP:20260424T041731Z
DTSTART:20191029T220000Z
DTEND:20191030T000000Z
TRANSP:TRANSPARENT
PRIORITY:0
SUMMARY:[Cancelled] LNHS-Technology Engineering Night
LOCATION:LNHS Cafeteria (GH HVAC)\, LNHS Great Hall\, LNHS LMC - 200
DESCRIPTION:Setup: 3:00 pm\nBreakdown: 8:30 pm\n\nGroups:\nDAC Innovation 
 & Learning\n\nSchools:\nDistrict Administration Center\nLiberty North High
  School\n\nLocations:\nLNHS Cafeteria (GH HVAC)\nLNHS Great Hall\nLNHS LMC
  - 200\n\nContacts:\nColleen Jones\nAndrea Sumy\nAngie Klein\n\n
URL;VALUE=URI:http://liberty53.tandem.co/index.php?type=view&action=event&
 id=334771
CREATED:20190201T183726Z
LAST-MODIFIED:20190828T171354Z
UID:event_request-334771-liberty53@intand.com
END:VEVENT
END:VCALENDAR
