BEGIN:VCALENDAR
VERSION:2.0
PRODID:-//Intand Corporation//Tandem//EN
METHOD:PUBLISH
BEGIN:VEVENT
DTSTAMP:20260424T033511Z
DTSTART:20200129T203000Z
DTEND:20200130T010000Z
TRANSP:TRANSPARENT
PRIORITY:0
SUMMARY:DMS Winter Sports Practices
LOCATION:DMS Gym
DESCRIPTION:Groups:\nSVJHS 8th Grade Boys Basketball\nSVJHS 8th Grade Girl
 s Basketball\nDMS Staff\n\nSchools:\nDiscovery Middle School\nDO NOT USE**
 **South Valley Junior High School\n\nLocation:\nDMS Gym\n\n
URL;VALUE=URI:http://liberty53.tandem.co/index.php?type=view&action=event&
 id=334613
CREATED:20190131T211615Z
LAST-MODIFIED:20190131T211615Z
UID:event-334613-liberty53@intand.com
END:VEVENT
END:VCALENDAR
