BEGIN:VCALENDAR
VERSION:2.0
PRODID:-//Intand Corporation//Tandem//EN
METHOD:PUBLISH
BEGIN:VEVENT
DTSTAMP:20260424T014931Z
DTSTART:20190819T193000Z
DTEND:20190819T213000Z
TRANSP:TRANSPARENT
PRIORITY:0
SUMMARY:8th Cheer Tryouts
LOCATION:DMS Cafeteria
DESCRIPTION:Groups:\nDMS Cheerleading\nDMS Staff\n\nSchools:\nDiscovery Mi
 ddle School\n\nLocation:\nDMS Cafeteria\n\n
URL;VALUE=URI:http://liberty53.tandem.co/index.php?type=view&action=event&
 id=334515
CREATED:20190131T210359Z
LAST-MODIFIED:20190131T210359Z
UID:event-334515-liberty53@intand.com
END:VEVENT
END:VCALENDAR
