BEGIN:VCALENDAR
VERSION:2.0
PRODID:-//Intand Corporation//Tandem//EN
METHOD:PUBLISH
BEGIN:VEVENT
DTSTAMP:20260424T031513Z
DTSTART:20190509T220000Z
DTEND:20190510T000000Z
TRANSP:TRANSPARENT
PRIORITY:0
SUMMARY:MH-Family Engagement Night
LOCATION:MHE Entire School
DESCRIPTION:Groups:\nMHE Parent\nMHE PTA\nMHE Staff\n\nSchools:\nManor Hil
 l Elementary\n\nLocation:\nMHE Entire School\n\n
URL;VALUE=URI:http://liberty53.tandem.co/index.php?type=view&action=event&
 id=334513
CREATED:20190131T201303Z
LAST-MODIFIED:20190131T201303Z
UID:event-334513-liberty53@intand.com
END:VEVENT
END:VCALENDAR
