BEGIN:VCALENDAR
VERSION:2.0
PRODID:-//Intand Corporation//Tandem//EN
METHOD:PUBLISH
BEGIN:VEVENT
DTSTAMP:20260424T050113Z
DTSTART:20190417T210000Z
DTEND:20190418T010000Z
TRANSP:TRANSPARENT
PRIORITY:0
SUMMARY:LN Scholar Bowl Sectional Tournament
LOCATION:LNHS Room 711\, LNHS Room 322
DESCRIPTION:MSHSAA Sectional Tournament for Scholar Bowl\n\nGroups:\nLNHS 
 Scholar Bowl\n\nSchools:\nLiberty North High School\n\nLocations:\nLNHS Ro
 om 711\nLNHS Room 322\n\n
URL;VALUE=URI:http://liberty53.tandem.co/index.php?type=view&action=event&
 id=334497
CREATED:20190131T180508Z
LAST-MODIFIED:20190410T142545Z
UID:event_request-334497-liberty53@intand.com
END:VEVENT
END:VCALENDAR
