BEGIN:VCALENDAR
VERSION:2.0
PRODID:-//Intand Corporation//Tandem//EN
METHOD:PUBLISH
BEGIN:VEVENT
DTSTAMP:20260424T063719Z
DTSTART:20190205T213000Z
DTEND:20190206T003000Z
TRANSP:TRANSPARENT
PRIORITY:0
SUMMARY:LN Scholar Bowl Quad Tournament
LOCATION:LNHS Room 324\, LNHS Room 322\, LNHS Room 326\, LNHS Room 330\, L
 NHS Room 332
DESCRIPTION:Groups:\nLNHS Scholar Bowl\n\nSchools:\nLiberty North High Sch
 ool\n\nLocations:\nLNHS Room 324\nLNHS Room 322\nLNHS Room 326\nLNHS Room 
 330\nLNHS Room 332\n\n
URL;VALUE=URI:http://liberty53.tandem.co/index.php?type=view&action=event&
 id=334495
CREATED:20190131T180041Z
LAST-MODIFIED:20190205T211507Z
UID:event_request-334495-liberty53@intand.com
END:VEVENT
END:VCALENDAR
