BEGIN:VCALENDAR
VERSION:2.0
PRODID:-//Intand Corporation//Tandem//EN
METHOD:PUBLISH
BEGIN:VEVENT
DTSTAMP:20260424T050223Z
DTSTART:20190801T120000Z
DTEND:20190801T140000Z
TRANSP:TRANSPARENT
PRIORITY:0
SUMMARY:LHS Volleyball Workouts
LOCATION:DMS Weight Room\, DMS Gym
DESCRIPTION:Groups:\nLHS Volleyball\n\nSchools:\nLiberty High School\nDisc
 overy Middle School\n\nLocations:\nDMS Weight Room\nDMS Gym\n\n
URL;VALUE=URI:http://liberty53.tandem.co/index.php?type=view&action=event&
 id=334483
CREATED:20190131T152350Z
LAST-MODIFIED:20190131T183925Z
UID:event_request-334483-liberty53@intand.com
END:VEVENT
END:VCALENDAR
