BEGIN:VCALENDAR
VERSION:2.0
PRODID:-//Intand Corporation//Tandem//EN
METHOD:PUBLISH
BEGIN:VEVENT
DTSTAMP:20260424T014538Z
DTSTART:20190209T160000Z
DTEND:20190209T190000Z
TRANSP:TRANSPARENT
PRIORITY:0
SUMMARY: LN Rugby - United
LOCATION:LNHS Aux Gym - 407 (GH HVAC)
DESCRIPTION:Groups:\nLNHS Rugby\n\nSchools:\nLiberty North High School\n\n
 Location:\nLNHS Aux Gym - 407 (GH HVAC)\n\n
URL;VALUE=URI:http://liberty53.tandem.co/index.php?type=view&action=event&
 id=334364
CREATED:20190130T000919Z
LAST-MODIFIED:20190211T213240Z
UID:event_request-334364-liberty53@intand.com
END:VEVENT
END:VCALENDAR
