BEGIN:VCALENDAR
VERSION:2.0
PRODID:-//Intand Corporation//Tandem//EN
METHOD:PUBLISH
BEGIN:VEVENT
DTSTAMP:20260424T033213Z
DTSTART:20190731T120000Z
DTEND:20190731T210000Z
TRANSP:TRANSPARENT
PRIORITY:0
SUMMARY:LNHS Marching Band Rehearsal
LOCATION:LNHS Fieldhouse (GH HVAC)\, LNHS Room 610E\, LNHS Room 612 Orches
 tra\, LNHS Room 608\, LNHS Room 617 VM-Large\, LNHS Room 613 VM-Small\, LN
 HS Activity Complex\, LNHS Room 616 Band\, LNHS Room 609
DESCRIPTION:Setup: 6:00 am\nBreakdown: 5:00 pm\n\nGroups:\nLNHS Band\n\nSc
 hools:\nLiberty North High School\n\nLocations:\nLNHS Fieldhouse (GH HVAC)
 \nLNHS Room 610E\nLNHS Room 612 Orchestra\nLNHS Room 608\nLNHS Room 617 VM
 -Large\nLNHS Room 613 VM-Small\nLNHS Activity Complex\nLNHS Room 616 Band\
 nLNHS Room 609\n\n
URL;VALUE=URI:http://liberty53.tandem.co/index.php?type=view&action=event&
 id=334104
CREATED:20190129T010736Z
LAST-MODIFIED:20190726T163717Z
UID:event_request-334104-liberty53@intand.com
END:VEVENT
END:VCALENDAR
