BEGIN:VCALENDAR
VERSION:2.0
PRODID:-//Intand Corporation//Tandem//EN
METHOD:PUBLISH
BEGIN:VEVENT
DTSTAMP:20260424T072819Z
DTSTART:20190129T003000Z
DTEND:20190129T013000Z
TRANSP:TRANSPARENT
PRIORITY:0
SUMMARY:6th grade parent information night
LOCATION:HMS Auditorium
DESCRIPTION:Groups:\nHMS Parent\n\nSchools:\nHeritage Middle School\n\nLoc
 ation:\nHMS Auditorium\n\n
URL;VALUE=URI:http://liberty53.tandem.co/index.php?type=view&action=event&
 id=334068
CREATED:20190128T160435Z
LAST-MODIFIED:20190128T160435Z
UID:event-334068-liberty53@intand.com
END:VEVENT
END:VCALENDAR
