BEGIN:VCALENDAR
VERSION:2.0
PRODID:-//Intand Corporation//Tandem//EN
METHOD:PUBLISH
BEGIN:VEVENT
DTSTAMP:20260424T014530Z
DTSTART:20190208T154500Z
DTEND:20190208T161500Z
TRANSP:TRANSPARENT
PRIORITY:0
SUMMARY:IEP for M.A\,
LOCATION:LHS Guidance Conference Room
DESCRIPTION:Groups:\nSPED Certified Staff\n\nSchools:\nDistrict Administra
 tion Center\nLiberty High School\n\nLocation:\nLHS Guidance Conference Roo
 m\n\n
URL;VALUE=URI:http://liberty53.tandem.co/index.php?type=view&action=event&
 id=334061
CREATED:20190128T140345Z
LAST-MODIFIED:20190128T193821Z
UID:event_request-334061-liberty53@intand.com
END:VEVENT
END:VCALENDAR
