BEGIN:VCALENDAR
VERSION:2.0
PRODID:-//Intand Corporation//Tandem//EN
METHOD:PUBLISH
BEGIN:VEVENT
DTSTAMP:20260424T032128Z
DTSTART:20190407T190000Z
DTEND:20190407T210000Z
TRANSP:TRANSPARENT
PRIORITY:0
SUMMARY:Open Facility - Softball
LOCATION:LHS Ball Diamond 3
DESCRIPTION:Schools:\nLiberty High School\nLIBERTY HIGH SCHOOL\n\nLocation
 :\nLHS Ball Diamond 3\n\n
URL;VALUE=URI:http://liberty53.tandem.co/index.php?type=view&action=event&
 id=333934
CREATED:20190125T163417Z
LAST-MODIFIED:20190125T204017Z
UID:event_request-333934-liberty53@intand.com
END:VEVENT
END:VCALENDAR
