BEGIN:VCALENDAR
VERSION:2.0
PRODID:-//Intand Corporation//Tandem//EN
METHOD:PUBLISH
BEGIN:VEVENT
DTSTAMP:20260424T014817Z
DTSTART:20190225T233000Z
DTEND:20190226T013000Z
TRANSP:TRANSPARENT
PRIORITY:0
SUMMARY:LHS Heritage Speaker 
LOCATION:LHS LMC Main Floor
DESCRIPTION:Schools:\nLiberty High School\n\nLocation:\nLHS LMC Main Floor
 \n\n
URL;VALUE=URI:http://liberty53.tandem.co/index.php?type=view&action=event&
 id=333914
CREATED:20190125T133344Z
LAST-MODIFIED:20190125T133344Z
UID:event-333914-liberty53@intand.com
END:VEVENT
END:VCALENDAR
