BEGIN:VCALENDAR
VERSION:2.0
PRODID:-//Intand Corporation//Tandem//EN
METHOD:PUBLISH
BEGIN:VEVENT
DTSTAMP:20260424T023334Z
DTSTART:20190126T040000Z
DTEND:20190126T110000Z
TRANSP:TRANSPARENT
PRIORITY:0
SUMMARY:Senior Girls' Lock In
LOCATION:LHS Auxiliary Gym\, LHS Cokely Gym
DESCRIPTION:Custodians\, please set up the table with water buckets and to
 wels for cleaning paint brushes.\n\nGroups:\nLHS Student Council\n\nSchool
 s:\nLiberty High School\n\nLocations:\nLHS Auxiliary Gym\nLHS Cokely Gym\n
 \n
URL;VALUE=URI:http://liberty53.tandem.co/index.php?type=view&action=event&
 id=333866
CREATED:20190124T220614Z
LAST-MODIFIED:20190125T204017Z
UID:event_request-333866-liberty53@intand.com
END:VEVENT
END:VCALENDAR
