BEGIN:VCALENDAR
VERSION:2.0
PRODID:-//Intand Corporation//Tandem//EN
METHOD:PUBLISH
BEGIN:VEVENT
DTSTAMP:20260424T034847Z
DTSTART:20190129T210000Z
DTEND:20190129T220000Z
TRANSP:TRANSPARENT
PRIORITY:0
SUMMARY:LHS - Parent Meeting- Williams
LOCATION:LHS Guidance Conference Room
DESCRIPTION:Groups:\nLHS SPED\n\nSchools:\nLiberty High School\n\nLocation
 :\nLHS Guidance Conference Room\n\n
URL;VALUE=URI:http://liberty53.tandem.co/index.php?type=view&action=event&
 id=333736
CREATED:20190124T154036Z
LAST-MODIFIED:20190124T155206Z
UID:event_request-333736-liberty53@intand.com
END:VEVENT
END:VCALENDAR
