BEGIN:VCALENDAR
VERSION:2.0
PRODID:-//Intand Corporation//Tandem//EN
METHOD:PUBLISH
BEGIN:VEVENT
DTSTAMP:20260424T063717Z
DTSTART:20191013T000000Z
DTEND:20191013T020000Z
TRANSP:TRANSPARENT
PRIORITY:0
SUMMARY:LMS Fall Play - Charlotte's Web @ LPAT
LOCATION:Liberty Performing Arts Theatre\, LMS Gym\, LMS Room 501 - Vocal 
 Music\, LMS Commons
DESCRIPTION:The performance itself runs from 7:00 p.m. - 9:00 p.m.\n\nSetu
 p: 3:00 pm\nBreakdown: 11:00 pm\n\nGroups:\nLMS Drama\n\nSchools:\nLiberty
  Middle School\n\nLocations:\nLiberty Performing Arts Theatre\nLMS Gym\nLM
 S Room 501 - Vocal Music\nLMS Commons\n\n
URL;VALUE=URI:http://liberty53.tandem.co/index.php?type=view&action=event&
 id=333712
CREATED:20190123T222955Z
LAST-MODIFIED:20191010T183453Z
UID:event_request-333712-liberty53@intand.com
END:VEVENT
END:VCALENDAR
