BEGIN:VCALENDAR
VERSION:2.0
PRODID:-//Intand Corporation//Tandem//EN
METHOD:PUBLISH
BEGIN:VEVENT
DTSTAMP:20260424T014713Z
DTSTART:20190404T230000Z
DTEND:20190405T003000Z
TRANSP:TRANSPARENT
PRIORITY:0
SUMMARY:Youth Soccer Practice - McDorman Liberty United
LOCATION:LHS - Auxiliary Field
DESCRIPTION:Groups:\nLiberty United Soccer\n\nSchools:\nLiberty High Schoo
 l\n\nLocation:\nLHS - Auxiliary Field\n\n
URL;VALUE=URI:http://liberty53.tandem.co/index.php?type=view&action=event&
 id=333510
CREATED:20190122T201040Z
LAST-MODIFIED:20190122T201227Z
UID:event_request-333510-liberty53@intand.com
END:VEVENT
END:VCALENDAR
