BEGIN:VCALENDAR
VERSION:2.0
PRODID:-//Intand Corporation//Tandem//EN
METHOD:PUBLISH
BEGIN:VEVENT
DTSTAMP:20260424T054321Z
DTSTART:20190620T183000Z
DTEND:20190620T194500Z
TRANSP:TRANSPARENT
PRIORITY:0
SUMMARY:DAC-410 Directors Meeting
LOCATION:DAC 4 - 410
DESCRIPTION:Groups:\nDAC Innovation & Learning\n\nSchools:\nDistrict Admin
 istration Center\n\nLocation:\nDAC 4 - 410\n\n
URL;VALUE=URI:http://liberty53.tandem.co/index.php?type=view&action=event&
 id=333457
CREATED:20190122T174237Z
LAST-MODIFIED:20190531T145512Z
UID:event-333457-liberty53@intand.com
END:VEVENT
END:VCALENDAR
