BEGIN:VCALENDAR
VERSION:2.0
PRODID:-//Intand Corporation//Tandem//EN
METHOD:PUBLISH
BEGIN:VEVENT
DTSTAMP:20260424T055143Z
DTSTART:20190219T140000Z
DTEND:20190219T210000Z
TRANSP:TRANSPARENT
PRIORITY:0
SUMMARY:DAC-408 Spanish 1 OER meeting
LOCATION:DAC 4 - 408
DESCRIPTION:Groups:\nDAC Innovation & Learning\n\nSchools:\nDistrict Admin
 istration Center\n\nLocation:\nDAC 4 - 408\n\n
URL;VALUE=URI:http://liberty53.tandem.co/index.php?type=view&action=event&
 id=333445
CREATED:20190122T150617Z
LAST-MODIFIED:20190122T151728Z
UID:event-333445-liberty53@intand.com
END:VEVENT
END:VCALENDAR
