BEGIN:VCALENDAR
VERSION:2.0
PRODID:-//Intand Corporation//Tandem//EN
METHOD:PUBLISH
BEGIN:VEVENT
DTSTAMP:20260424T014554Z
DTSTART:20190423T220000Z
DTEND:20190424T045959Z
TRANSP:TRANSPARENT
PRIORITY:0
SUMMARY:LN BB JV vs Smithville
LOCATION:LNHS Yard - Baseball Field
DESCRIPTION:Breakdown: TBD\n\nReturn: TBD\n\nGroups:\nLNHS Baseball - JV\n
 \nSchools:\nLiberty North High School\n\nLocation:\nLNHS Yard - Baseball F
 ield\n\n
URL;VALUE=URI:http://liberty53.tandem.co/index.php?type=view&action=event&
 id=333080
CREATED:20190115T214031Z
LAST-MODIFIED:20190226T221524Z
UID:event-333080-liberty53@intand.com
END:VEVENT
END:VCALENDAR
