BEGIN:VCALENDAR
VERSION:2.0
PRODID:-//Intand Corporation//Tandem//EN
METHOD:PUBLISH
BEGIN:VEVENT
DTSTAMP:20260424T055157Z
DTSTART:20190420T130000Z
DTEND:20190421T045959Z
TRANSP:TRANSPARENT
PRIORITY:0
SUMMARY:LN MTen JV at NKC Tourney
LOCATION:Plaza Tennis Center
DESCRIPTION:Breakdown: TBD\n\nReturn: TBD\n\nGroups:\nLNHS Tennis - Boys\n
 \nSchools:\nLiberty North High School\n\nLocation:\nPlaza Tennis Center\n\
 n
URL;VALUE=URI:http://liberty53.tandem.co/index.php?type=view&action=event&
 id=333042
CREATED:20190115T211550Z
LAST-MODIFIED:20190115T211550Z
UID:event-333042-liberty53@intand.com
END:VEVENT
END:VCALENDAR
