BEGIN:VCALENDAR
VERSION:2.0
PRODID:-//Intand Corporation//Tandem//EN
METHOD:PUBLISH
BEGIN:VEVENT
DTSTAMP:20260424T055219Z
DTSTART:20190123T140000Z
DTEND:20190123T150000Z
TRANSP:TRANSPARENT
PRIORITY:0
SUMMARY:FC-Carpet Meeting
LOCATION:FC Conference Room
DESCRIPTION:Groups:\nFacilities Internal Use\n\nSchools:\nDistrict Adminis
 tration Center\n\nLocation:\nFC Conference Room\n\n
URL;VALUE=URI:http://liberty53.tandem.co/index.php?type=view&action=event&
 id=333038
CREATED:20190115T211323Z
LAST-MODIFIED:20190115T211323Z
UID:event-333038-liberty53@intand.com
END:VEVENT
END:VCALENDAR
