BEGIN:VCALENDAR
VERSION:2.0
PRODID:-//Intand Corporation//Tandem//EN
METHOD:PUBLISH
BEGIN:VEVENT
DTSTAMP:20260424T041348Z
DTSTART:20190402T210000Z
DTEND:20190403T045959Z
TRANSP:TRANSPARENT
PRIORITY:0
SUMMARY:LN MTen JV/V at PCounty
LOCATION:Platte County High School
DESCRIPTION:Breakdown: TBD\n\nReturn: TBD\n\nGroups:\nLNHS Tennis - Boys\n
 \nSchools:\nLiberty North High School\n\nLocation:\nPlatte County High Sch
 ool\n\n
URL;VALUE=URI:http://liberty53.tandem.co/index.php?type=view&action=event&
 id=333032
CREATED:20190115T210941Z
LAST-MODIFIED:20190115T210959Z
UID:event-333032-liberty53@intand.com
END:VEVENT
END:VCALENDAR
