BEGIN:VCALENDAR
VERSION:2.0
PRODID:-//Intand Corporation//Tandem//EN
METHOD:PUBLISH
BEGIN:VEVENT
DTSTAMP:20260424T014736Z
DTSTART:20190504T133000Z
DTEND:20190504T160000Z
TRANSP:TRANSPARENT
PRIORITY:0
SUMMARY:LN Track & Field Practice
LOCATION:LNHS Track\, LNHS Football Field
DESCRIPTION:Groups:\nLNHS Track\nLNHS Varsity Track\n\nSchools:\nLiberty N
 orth High School\n\nLocations:\nLNHS Track\nLNHS Football Field\n\n
URL;VALUE=URI:http://liberty53.tandem.co/index.php?type=view&action=event&
 id=332905
CREATED:20190115T174902Z
LAST-MODIFIED:20190115T204142Z
UID:event_request-332905-liberty53@intand.com
END:VEVENT
END:VCALENDAR
