BEGIN:VCALENDAR
VERSION:2.0
PRODID:-//Intand Corporation//Tandem//EN
METHOD:PUBLISH
BEGIN:VEVENT
DTSTAMP:20260424T063618Z
DTSTART:20190206T000000Z
DTEND:20190206T020000Z
TRANSP:TRANSPARENT
PRIORITY:0
SUMMARY:[Cancelled] LHS-Early Explorer's Learning Center-Varnell
LOCATION:LHS LMC Main Floor
DESCRIPTION:Groups:\nEarly Explorers Learning Center\n\nSchools:\nLiberty 
 High School\n\nLocation:\nLHS LMC Main Floor\n\n
URL;VALUE=URI:http://liberty53.tandem.co/index.php?type=view&action=event&
 id=332709
CREATED:20190111T152453Z
LAST-MODIFIED:20190122T203205Z
UID:event-332709-liberty53@intand.com
END:VEVENT
END:VCALENDAR
