BEGIN:VCALENDAR
VERSION:2.0
PRODID:-//Intand Corporation//Tandem//EN
METHOD:PUBLISH
BEGIN:VEVENT
DTSTAMP:20260424T080307Z
DTSTART:20190212T003000Z
DTEND:20190212T023000Z
TRANSP:TRANSPARENT
PRIORITY:0
SUMMARY:SC-Benson Place HOA-Pulse
LOCATION:SCE Great Hall
DESCRIPTION:Groups:\nBenson Place HOA\n\nSchools:\nShoal Creek Elementary\
 n\nLocation:\nSCE Great Hall\n\n
URL;VALUE=URI:http://liberty53.tandem.co/index.php?type=view&action=event&
 id=332703
CREATED:20190111T143526Z
LAST-MODIFIED:20190111T143526Z
UID:event-332703-liberty53@intand.com
END:VEVENT
END:VCALENDAR
