BEGIN:VCALENDAR
VERSION:2.0
PRODID:-//Intand Corporation//Tandem//EN
METHOD:PUBLISH
BEGIN:VEVENT
DTSTAMP:20260424T034809Z
DTSTART:20190215T140000Z
DTEND:20190215T210000Z
TRANSP:TRANSPARENT
PRIORITY:0
SUMMARY:DAC 3-Board Room  SSW Ethics PD
LOCATION:DAC 3-Board Room
DESCRIPTION:School Social Workers PD - SSW Ethics.  In need of 25-30 seats
  with tables (if possible).\n\nSetup: 7:30 am\nBreakdown: 3:30 pm\n\nGroup
 s:\nSocial Workers\n\nSchools:\nDistrict Administration Center\n\nLocation
 :\nDAC 3-Board Room\n\n
URL;VALUE=URI:http://liberty53.tandem.co/index.php?type=view&action=event&
 id=332702
CREATED:20190111T141020Z
LAST-MODIFIED:20190213T144914Z
UID:event_request-332702-liberty53@intand.com
END:VEVENT
END:VCALENDAR
