BEGIN:VCALENDAR
VERSION:2.0
PRODID:-//Intand Corporation//Tandem//EN
METHOD:PUBLISH
BEGIN:VEVENT
DTSTAMP:20260424T023148Z
DTSTART:20190114T133000Z
DTEND:20190114T140000Z
TRANSP:TRANSPARENT
PRIORITY:0
SUMMARY:Student Meeting - McDorman
LOCATION:LHS Administrative Conference Room
DESCRIPTION:Groups:\nLHS Administrative Team\n\nSchools:\nLiberty High Sch
 ool\n\nLocation:\nLHS Administrative Conference Room\n\n
URL;VALUE=URI:http://liberty53.tandem.co/index.php?type=view&action=event&
 id=332695
CREATED:20190110T213909Z
LAST-MODIFIED:20190111T152128Z
UID:event_request-332695-liberty53@intand.com
END:VEVENT
END:VCALENDAR
