BEGIN:VCALENDAR
VERSION:2.0
PRODID:-//Intand Corporation//Tandem//EN
METHOD:PUBLISH
BEGIN:VEVENT
DTSTAMP:20260424T063708Z
DTSTART:20190205T230000Z
DTEND:20190206T030000Z
TRANSP:TRANSPARENT
PRIORITY:0
SUMMARY:LNWR Jr Jamboree (EWC)
LOCATION:LNHS Aux Gym - 407 (GH HVAC)
DESCRIPTION:Groups:\nLNHS Wrestling 0 EWC\n\nSchools:\nLiberty North High 
 School\n\nLocation:\nLNHS Aux Gym - 407 (GH HVAC)\n\n
URL;VALUE=URI:http://liberty53.tandem.co/index.php?type=view&action=event&
 id=332690
CREATED:20190110T204138Z
LAST-MODIFIED:20190111T150106Z
UID:event_request-332690-liberty53@intand.com
END:VEVENT
END:VCALENDAR
