BEGIN:VCALENDAR
VERSION:2.0
PRODID:-//Intand Corporation//Tandem//EN
METHOD:PUBLISH
BEGIN:VEVENT
DTSTAMP:20260424T053442Z
DTSTART:20190114T130000Z
DTEND:20190114T140000Z
TRANSP:TRANSPARENT
PRIORITY:0
SUMMARY:SVMS-CONF. STE. I-SELOCK-SVMS
LOCATION:SVMS Conference Suite I
DESCRIPTION:Groups:\nSVMS Staff\n\nSchools:\nSouth Valley Middle School\n\
 nLocation:\nSVMS Conference Suite I\n\n
URL;VALUE=URI:http://liberty53.tandem.co/index.php?type=view&action=event&
 id=332678
CREATED:20190110T131309Z
LAST-MODIFIED:20190110T131309Z
UID:event-332678-liberty53@intand.com
END:VEVENT
END:VCALENDAR
