BEGIN:VCALENDAR
VERSION:2.0
PRODID:-//Intand Corporation//Tandem//EN
METHOD:PUBLISH
BEGIN:VEVENT
DTSTAMP:20260424T023628Z
DTSTART:20190116T134000Z
DTEND:20190116T144000Z
TRANSP:TRANSPARENT
PRIORITY:0
SUMMARY:IEP - JT (Simpson)
LOCATION:LHS Guidance Conference Room
DESCRIPTION:Groups:\nSPED Certified Staff\n\nSchools:\nDistrict Administra
 tion Center\nLiberty High School\n\nLocation:\nLHS Guidance Conference Roo
 m\n\n
URL;VALUE=URI:http://liberty53.tandem.co/index.php?type=view&action=event&
 id=332608
CREATED:20190108T200544Z
LAST-MODIFIED:20190109T193209Z
UID:event_request-332608-liberty53@intand.com
END:VEVENT
END:VCALENDAR
