BEGIN:VCALENDAR
VERSION:2.0
PRODID:-//Intand Corporation//Tandem//EN
METHOD:PUBLISH
BEGIN:VEVENT
DTSTAMP:20260424T033449Z
DTSTART:20190203T000000Z
DTEND:20190203T055500Z
TRANSP:TRANSPARENT
PRIORITY:0
SUMMARY:LHS- Courtwarming Dance LHS
LOCATION:LHS Cokely Gym
DESCRIPTION:Please make sure the tarp is down.  Stuco will be decorating\n
 \nGroups:\nLHS Student Council\n\nSchools:\nLiberty High School\n\nLocatio
 n:\nLHS Cokely Gym\n\n
URL;VALUE=URI:http://liberty53.tandem.co/index.php?type=view&action=event&
 id=332579
CREATED:20190108T173957Z
LAST-MODIFIED:20190108T173957Z
UID:event-332579-liberty53@intand.com
END:VEVENT
END:VCALENDAR
