BEGIN:VCALENDAR
VERSION:2.0
PRODID:-//Intand Corporation//Tandem//EN
METHOD:PUBLISH
BEGIN:VEVENT
DTSTAMP:20260424T054322Z
DTSTART:20190131T010000Z
DTEND:20190131T040000Z
TRANSP:TRANSPARENT
PRIORITY:0
SUMMARY:LHS- Stuco Spike it Up
LOCATION:LHS Fieldhouse Gym
DESCRIPTION:Groups:\nLHS Student Council\n\nSchools:\nLiberty High School\
 n\nLocation:\nLHS Fieldhouse Gym\n\n
URL;VALUE=URI:http://liberty53.tandem.co/index.php?type=view&action=event&
 id=332578
CREATED:20190108T171124Z
LAST-MODIFIED:20190108T171124Z
UID:event-332578-liberty53@intand.com
END:VEVENT
END:VCALENDAR
