BEGIN:VCALENDAR
VERSION:2.0
PRODID:-//Intand Corporation//Tandem//EN
METHOD:PUBLISH
BEGIN:VEVENT
DTSTAMP:20260424T033130Z
DTSTART:20190228T130000Z
DTEND:20190228T140000Z
TRANSP:TRANSPARENT
PRIORITY:0
SUMMARY:2019 LNHS Intramural Basketball Season 
LOCATION:LNHS Aux Gym - 407 (GH HVAC)
DESCRIPTION:Groups:\nLNHS Grade 10\nLNHS Grade 11\nLNHS Grade 12\nLNHS Gra
 de 9\nLNHS Intramurals\nLNHS Staff\n\nSchools:\nLiberty North High School\
 n\nLocation:\nLNHS Aux Gym - 407 (GH HVAC)\n\n
URL;VALUE=URI:http://liberty53.tandem.co/index.php?type=view&action=event&
 id=332497
CREATED:20190107T150026Z
LAST-MODIFIED:20190107T172617Z
UID:event_request-332497-liberty53@intand.com
END:VEVENT
END:VCALENDAR
