BEGIN:VCALENDAR
VERSION:2.0
PRODID:-//Intand Corporation//Tandem//EN
METHOD:PUBLISH
BEGIN:VEVENT
DTSTAMP:20260424T022435Z
DTSTART:20190130T213000Z
DTEND:20190131T030000Z
TRANSP:TRANSPARENT
PRIORITY:0
SUMMARY:LN Scholar Bowl Tournament
LOCATION:LNHS Room 324\, LNHS Room 322\, LNHS Room 326\, LNHS Room 330\, L
 NHS Room 332
DESCRIPTION:Groups:\nLNHS Scholar Bowl\n\nSchools:\nLiberty North High Sch
 ool\n\nLocations:\nLNHS Room 324\nLNHS Room 322\nLNHS Room 326\nLNHS Room 
 330\nLNHS Room 332\n\n
URL;VALUE=URI:http://liberty53.tandem.co/index.php?type=view&action=event&
 id=332476
CREATED:20190107T000406Z
LAST-MODIFIED:20190107T172616Z
UID:event_request-332476-liberty53@intand.com
END:VEVENT
END:VCALENDAR
