BEGIN:VCALENDAR
VERSION:2.0
PRODID:-//Intand Corporation//Tandem//EN
METHOD:PUBLISH
BEGIN:VEVENT
DTSTAMP:20260424T014848Z
DTSTART:20190608T113000Z
DTEND:20190608T180000Z
TRANSP:TRANSPARENT
PRIORITY:0
SUMMARY:LNHS - National ACT Test
LOCATION:LNHS Room 912\, LNHS Room 907\, LNHS Room 815\, LNHS Room 807\, L
 NHS Room 810\, LNHS Room 914\, LNHS Room 816\, LNHS Room 822\, LNHS Room 8
 12\, LNHS Room 803\, LNHS Room 905\, LNHS Room 817\, LNHS Room 910\, LNHS 
 Room 806\, LNHS Room 808
DESCRIPTION:National ACT Test temporarily at LNHS for June 8 & July 13 whi
 le LHS is under construction. Classrooms will be used for testing. Will al
 so need restrooms in the 800's and 900's. Lois Magnuson will come up the e
 vening prior to set up registration area and signage.\n\nGroups:\nLHS Coun
 selors\n\nSchools:\nLiberty High School\nLiberty North High School\n\nLoca
 tions:\nLNHS Room 912\nLNHS Room 907\nLNHS Room 815\nLNHS Room 807\nLNHS R
 oom 810\nLNHS Room 914\nLNHS Room 816\nLNHS Room 822\nLNHS Room 812\nLNHS 
 Room 803\nLNHS Room 905\nLNHS Room 817\nLNHS Room 910\nLNHS Room 806\nLNHS
  Room 808\nLNHS Room 820\n\n
URL;VALUE=URI:http://liberty53.tandem.co/index.php?type=view&action=event&
 id=332422
CREATED:20190102T175537Z
LAST-MODIFIED:20190104T184256Z
UID:event_request-332422-liberty53@intand.com
END:VEVENT
END:VCALENDAR
