BEGIN:VCALENDAR
VERSION:2.0
PRODID:-//Intand Corporation//Tandem//EN
METHOD:PUBLISH
BEGIN:VEVENT
DTSTAMP:20260424T050112Z
DTSTART:20190213T140000Z
DTEND:20190213T143500Z
TRANSP:TRANSPARENT
PRIORITY:0
SUMMARY:A+ Training Session
LOCATION:LHS Administrative Conference Room
DESCRIPTION:A+ Training for students who are enrolled in the A+ program.  
 This is a mandatory training prior to tutoring.\n\nSchools:\nLiberty High 
 School\n\nLocation:\nLHS Administrative Conference Room\n\n
URL;VALUE=URI:http://liberty53.tandem.co/index.php?type=view&action=event&
 id=332376
CREATED:20190102T155501Z
LAST-MODIFIED:20190107T141336Z
UID:event_request-332376-liberty53@intand.com
END:VEVENT
END:VCALENDAR
