BEGIN:VCALENDAR
VERSION:2.0
PRODID:-//Intand Corporation//Tandem//EN
METHOD:PUBLISH
BEGIN:VEVENT
DTSTAMP:20260424T022518Z
DTSTART:20190104T003000Z
DTEND:20190104T020000Z
TRANSP:TRANSPARENT
PRIORITY:0
SUMMARY:LN TRACK CONDITIONING
LOCATION:LNHS Aux Gym - 407 (GH HVAC)
DESCRIPTION:Groups:\nLNHS Track\n\nSchools:\nLiberty North High School\n\n
 Location:\nLNHS Aux Gym - 407 (GH HVAC)\n\n
URL;VALUE=URI:http://liberty53.tandem.co/index.php?type=view&action=event&
 id=332336
CREATED:20181231T152710Z
LAST-MODIFIED:20190104T184256Z
UID:event_request-332336-liberty53@intand.com
END:VEVENT
END:VCALENDAR
