BEGIN:VCALENDAR
VERSION:2.0
PRODID:-//Intand Corporation//Tandem//EN
METHOD:PUBLISH
BEGIN:VEVENT
DTSTAMP:20260424T041319Z
DTSTART:20190112T003000Z
DTEND:20190112T023000Z
TRANSP:TRANSPARENT
PRIORITY:0
SUMMARY:[Cancelled] WH - Brooke Meadows HOA Meeting
LOCATION:WHE Cafeteria
DESCRIPTION:Groups:\nBrooke Meadows HOA\n\nSchools:\nWarren Hills Elementa
 ry\n\nLocation:\nWHE Cafeteria\n\n
URL;VALUE=URI:http://liberty53.tandem.co/index.php?type=view&action=event&
 id=332302
CREATED:20181221T194521Z
LAST-MODIFIED:20190111T184055Z
UID:event-332302-liberty53@intand.com
END:VEVENT
END:VCALENDAR
