BEGIN:VCALENDAR
VERSION:2.0
PRODID:-//Intand Corporation//Tandem//EN
METHOD:PUBLISH
BEGIN:VEVENT
DTSTAMP:20260424T055209Z
DTSTART:20181227T233000Z
DTEND:20181228T013000Z
TRANSP:TRANSPARENT
PRIORITY:0
SUMMARY:SC - Dragon Slayers Basketball Comp Team
LOCATION:SCE Gym
DESCRIPTION:Groups:\nDragon Slayers Basketball Comp Team\n\nSchools:\nShoa
 l Creek Elementary\n\nLocation:\nSCE Gym\n\n
URL;VALUE=URI:http://liberty53.tandem.co/index.php?type=view&action=event&
 id=332299
CREATED:20181221T193416Z
LAST-MODIFIED:20181221T193416Z
UID:event-332299-liberty53@intand.com
END:VEVENT
END:VCALENDAR
