BEGIN:VCALENDAR
VERSION:2.0
PRODID:-//Intand Corporation//Tandem//EN
METHOD:PUBLISH
BEGIN:VEVENT
DTSTAMP:20260424T055310Z
DTSTART:20190107T210000Z
DTEND:20190107T224500Z
TRANSP:TRANSPARENT
PRIORITY:0
SUMMARY:LN8GBB Practice
LOCATION:HMS South Gym
DESCRIPTION:Groups:\nLNHS 8th Grade Girls Basketball\n\nSchools:\nSouth Va
 lley Middle School\nLiberty North High School\nHeritage Middle School\n\nL
 ocation:\nHMS South Gym\n\n
URL;VALUE=URI:http://liberty53.tandem.co/index.php?type=view&action=event&
 id=332274
CREATED:20181220T203305Z
LAST-MODIFIED:20181221T132438Z
UID:event_request-332274-liberty53@intand.com
END:VEVENT
END:VCALENDAR
