BEGIN:VCALENDAR
VERSION:2.0
PRODID:-//Intand Corporation//Tandem//EN
METHOD:PUBLISH
BEGIN:VEVENT
DTSTAMP:20260424T055318Z
DTSTART;VALUE=DATE:20181227
DTEND;VALUE=DATE:20181228
TRANSP:TRANSPARENT
PRIORITY:0
SUMMARY:LMS - GYM CLOSED - Maintenance Work
LOCATION:LMS Gym
DESCRIPTION:Groups:\nFacilities Internal Use\n\nSchools:\nLiberty Middle S
 chool\n\nLocation:\nLMS Gym\n\n
URL;VALUE=URI:http://liberty53.tandem.co/index.php?type=view&action=event&
 id=332244
CREATED:20181219T174250Z
LAST-MODIFIED:20181219T174250Z
UID:event-332244-liberty53@intand.com
END:VEVENT
END:VCALENDAR
