BEGIN:VCALENDAR
VERSION:2.0
PRODID:-//Intand Corporation//Tandem//EN
METHOD:PUBLISH
BEGIN:VEVENT
DTSTAMP:20260424T040634Z
DTSTART:20190102T120000Z
DTEND:20190102T140000Z
TRANSP:TRANSPARENT
PRIORITY:0
SUMMARY:Sapphires practice
LOCATION:DMS Gym
DESCRIPTION:Groups:\nDMS Staff\nLHS Sapphires Varsity\n\nSchools:\nLiberty
  High School\nDiscovery Middle School\n\nLocation:\nDMS Gym\n\n
URL;VALUE=URI:http://liberty53.tandem.co/index.php?type=view&action=event&
 id=332217
CREATED:20181218T190726Z
LAST-MODIFIED:20181218T190726Z
UID:event-332217-liberty53@intand.com
END:VEVENT
END:VCALENDAR
