BEGIN:VCALENDAR
VERSION:2.0
PRODID:-//Intand Corporation//Tandem//EN
METHOD:PUBLISH
BEGIN:VEVENT
DTSTAMP:20260424T014924Z
DTSTART:20190508T211500Z
DTEND:20190508T221500Z
TRANSP:TRANSPARENT
PRIORITY:0
SUMMARY:LS- Garden Club
LOCATION:LSE Library
DESCRIPTION:Groups:\nLSE PTA\nLSE Parent\nLSE Staff\n\nSchools:\nLillian S
 chumacher Elementary\n\nLocation:\nLSE Library\n\n
URL;VALUE=URI:http://liberty53.tandem.co/index.php?type=view&action=event&
 id=332210
CREATED:20181016T135454Z
LAST-MODIFIED:20181218T162001Z
UID:event-332210-liberty53@intand.com
END:VEVENT
END:VCALENDAR
