BEGIN:VCALENDAR
VERSION:2.0
PRODID:-//Intand Corporation//Tandem//EN
METHOD:PUBLISH
BEGIN:VEVENT
DTSTAMP:20260424T073813Z
DTSTART:20190104T160000Z
DTEND:20190104T173000Z
TRANSP:TRANSPARENT
PRIORITY:0
SUMMARY:8th Girls BB Practice
LOCATION:LMS Gym
DESCRIPTION:Groups:\nLMS Staff\nLHS 8th Grade Girls Basketball\n\nSchools:
 \nDiscovery Middle School\nLiberty High School\nLiberty Middle School\n\nL
 ocation:\nLMS Gym\n\n
URL;VALUE=URI:http://liberty53.tandem.co/index.php?type=view&action=event&
 id=332167
CREATED:20181218T145612Z
LAST-MODIFIED:20181218T145612Z
UID:event-332167-liberty53@intand.com
END:VEVENT
END:VCALENDAR
