BEGIN:VCALENDAR
VERSION:2.0
PRODID:-//Intand Corporation//Tandem//EN
METHOD:PUBLISH
BEGIN:VEVENT
DTSTAMP:20260424T053441Z
DTSTART:20190327T120000Z
DTEND:20190327T210000Z
TRANSP:TRANSPARENT
PRIORITY:0
SUMMARY:DAC-408 Master Schedule Building Workshop 
LOCATION:DAC 4 - 408
DESCRIPTION:Groups:\nDAC Innovation & Learning\n\nSchools:\nDistrict Admin
 istration Center\n\nLocation:\nDAC 4 - 408\n\n
URL;VALUE=URI:http://liberty53.tandem.co/index.php?type=view&action=event&
 id=332138
CREATED:20181217T185746Z
LAST-MODIFIED:20181217T191453Z
UID:event_request-332138-liberty53@intand.com
END:VEVENT
END:VCALENDAR
